BEGIN:VCALENDAR
VERSION:2.0
PRODID:-//Kulturinitiative die Halle e.V. - ECPv6.15.15//NONSGML v1.0//EN
CALSCALE:GREGORIAN
METHOD:PUBLISH
X-WR-CALNAME:Kulturinitiative die Halle e.V.
X-ORIGINAL-URL:https://diehalle.de
X-WR-CALDESC:Veranstaltungen für Kulturinitiative die Halle e.V.
REFRESH-INTERVAL;VALUE=DURATION:PT1H
X-Robots-Tag:noindex
X-PUBLISHED-TTL:PT1H
BEGIN:VTIMEZONE
TZID:UTC
BEGIN:STANDARD
TZOFFSETFROM:+0000
TZOFFSETTO:+0000
TZNAME:UTC
DTSTART:20260101T000000
END:STANDARD
END:VTIMEZONE
BEGIN:VEVENT
DTSTART;TZID=UTC:20270122T190000
DTEND;TZID=UTC:20270122T190000
DTSTAMP:20260423T133642
CREATED:20201207T170536Z
LAST-MODIFIED:20260113T114517Z
UID:1249-1800644400-1800644400@diehalle.de
SUMMARY:The 12 Tenors
DESCRIPTION:Besonders\, einmalig und unvergesslich – The 12 Tenors mit neuem Programm!\nEine der erfolgreichsten Tenorformationen der Welt ist zurück auf der großen Bühne. Die zwölf Ausnahmesänger aus sechs Nationen mit einer renommierten Live-Band präsentieren ihr neues Bühnenprogramm. Ob aktuelle Popsongs oder eindrucksvolle Balladen – The 12 Tenors hinterlassen garantiert ein Lächeln im Gesicht ihres Publikums.\nMit neuen Interpretationen rund um die legendärsten Songs aller Zeiten entführen die zwölf Tenöre das Publikum mit ihrer LEGACY TOUR in eine friedliche Welt\, die allein von der Musik bestimmt wird. Zwölf Persönlichkeiten und ausgezeichnete Solisten verbinden ihr Herzblut und Feuer\, um für ihr Publikum eine Show voller Wow-Momente zu performen. Unterstützt werden die Sänger von einer Live-Band und einer imposanten Lichtshow. \nIn Kooperation mit Manne Kurz Events.\nMehr Infos unter http://www.mannekurz-events.de
URL:https://diehalle.de/event/the-12-tenors/
LOCATION:K3N Nürtingen\, Heiligkreuzstr. 4\, Nürtingen\, 72622\, Deutschland
CATEGORIES:halle on tour
ATTACH;FMTTYPE=image/jpeg:https://diehalle.de/wp-content/uploads/2020/12/12-Tenors-2027-e1768304612779.jpg
END:VEVENT
END:VCALENDAR