BEGIN:VCALENDAR
VERSION:2.0
PRODID:-//Kulturinitiative die Halle e.V. - ECPv6.15.15//NONSGML v1.0//EN
CALSCALE:GREGORIAN
METHOD:PUBLISH
X-WR-CALNAME:Kulturinitiative die Halle e.V.
X-ORIGINAL-URL:https://diehalle.de
X-WR-CALDESC:Veranstaltungen für Kulturinitiative die Halle e.V.
REFRESH-INTERVAL;VALUE=DURATION:PT1H
X-Robots-Tag:noindex
X-PUBLISHED-TTL:PT1H
BEGIN:VTIMEZONE
TZID:UTC
BEGIN:STANDARD
TZOFFSETFROM:+0000
TZOFFSETTO:+0000
TZNAME:UTC
DTSTART:20250101T000000
END:STANDARD
END:VTIMEZONE
BEGIN:VEVENT
DTSTART;TZID=UTC:20260508T190000
DTEND;TZID=UTC:20260508T190000
DTSTAMP:20260423T174817
CREATED:20250721T123156Z
LAST-MODIFIED:20250918T050943Z
UID:5987-1778266800-1778266800@diehalle.de
SUMMARY:Rock Meets Classic
DESCRIPTION:Rockklassiker mit Band und Orchester \nDas wird ein ganz besonderes Erlebnis!\nEine fünfköpfige Rock Band und dazu ein 9-köpfiges Ensemble der Frankfurter Sinfoniker\, alle gemeinsam in der Halle Reichenbach auf der Bühne. Und sie spielen nichts Geringeres\, als die größten Rocksongs aller Zeiten. Von „Bohemian Rhapsody“ über „Don’t stop believin’“ bis „Stairway to Heaven“ und „Hotel California“. \nRealisiert wird das Projekt von der Gitarrenlegende Siggi Schwarz\, der damit seinen Traum wahr macht\, sein Programm „Rock meets Classic“\, mit dem er seit 2015 zusammen mit seiner internationalen Band und bekannten Philharmonischen Orchestern durch ganz Deutschland tourt\, endlich auch in der brutalen Intensität kleiner Rockclubs erlebbar zu machen. \nDie Rock-Band und das Ensemble bilden eine unglaubliche\, gemeinsame Dynamik und nehmen die Zuhörer mit auf eine Zeitreise durch die Rockgeschichte.\nAusnahmesänger Markus Engelstaedter\, der mit seiner vier Oktaven Stimme zu den besten Queen und Freddie Mercury Interpreten Europas zählt und das gefühlvolle und virtuose Gitarrenspiel von Siggi Schwarz machen dieses Format zu etwas ganz Besonderem. \nBesetzung: Siggi Schwarz (Guitars)\, Markus Engelstaedter (Vocals)\, Danny O’Steen (Bass)\, Max Hunt (Keyboards)\, Maxx Hertweck (Drums)
URL:https://diehalle.de/event/rock-meets-classic/
LOCATION:Kulturinitiative die Halle Reichenbach e.V.\, Kanalstraße 10\, Reichenbach a. d. Fils\, Baden_Württemberg\, 73262\, Germany
CATEGORIES:halle
ATTACH;FMTTYPE=image/jpeg:https://diehalle.de/wp-content/uploads/2025/07/Siggi-Schwarz-Rock-meets-Classic-small-e1753101040886.jpg
ORGANIZER;CN="die Halle":MAILTO:info@diehalle.de
END:VEVENT
BEGIN:VEVENT
DTSTART;TZID=UTC:20260508T190000
DTEND;TZID=UTC:20260508T190000
DTSTAMP:20260423T174817
CREATED:20251104T061132Z
LAST-MODIFIED:20251104T061132Z
UID:6499-1778266800-1778266800@diehalle.de
SUMMARY:Spider Murphy Gang
DESCRIPTION:Dass Rock’n‘Roll auch auf bayrisch geht\, hätten sich Chuck Berry und Elvis in ihren kühnsten Träumen nicht vorstellen können. Doch die Spider Murphy Gang – die Band von Barny Murphy und Günther Sigl – hat’s bewiesen: Die Jungs spielen sich nämlich seit geraumer Zeit mit bayrischer Mundart\, bestem Rock’n’Roll und viel Elan durch Deutschlands Konzerthallen – und zwar mit ungebremstem Erfolg. \nIm Zuge der Neuen Deutschen Welle sorgten die Vollblut-Rocker für Furore\, als sie mit ihren München-Hits wie „Skandal im Sperrbezirk“ und „Schickeria“ die Charts stürmten. Ihr eigentliches Handwerk bleibt aber nun mal das Erbe der amerikanischen 50er – und die rocken gestern wie heute. Auf den Konzerten versprüht die SMG Spielfreude und gute Laune\, dass niemand denken könnte\, hier die Bandmitglieder aus den Achtzigern vor sich zu haben. \nSicher ist es für die leidenschaftlichen Bayern ein ganz persönlicher Ritterschlag\, dass sie auf Chuck Berry´s Website als einzige deutschsprachige Tribute-Band neben den Scorpions gelistet sind. Und so sind die Live-Konzerte der Spider Murphy Gang auch heute noch packende Performances dieser exzellenten Band\, die den Rock’n‘Roll im Blut und in den Fingern hat.
URL:https://diehalle.de/event/spider-murphy-gang/
LOCATION:K3N Nürtingen\, Heiligkreuzstr. 4\, Nürtingen\, 72622\, Deutschland
CATEGORIES:halle on tour
ATTACH;FMTTYPE=image/jpeg:https://diehalle.de/wp-content/uploads/2025/11/Presse-SpiderMurphyGang-c-HangenPhoto-002-scaled-e1762236604807.jpg
END:VEVENT
BEGIN:VEVENT
DTSTART;TZID=UTC:20260513T210000
DTEND;TZID=UTC:20260514T030000
DTSTAMP:20260423T174817
CREATED:20260402T120239Z
LAST-MODIFIED:20260413T074235Z
UID:7089-1778706000-1778727600@diehalle.de
SUMMARY:2016 Party
DESCRIPTION:Lets go 2016! \nRosegold und Pokemon Go! Chainsmokers und Rihanna! Das war 2016. Weißt Du noch?\nWir feiern das Jubiläum mit einer feinen Mottoparty. \nSei dabei! \nUnd lass Dich nicht vom Datum abschrecken\, am Donnerstag ist Feiertag – Du kannst ausschlafen! 🙂 \nEinlass ab 16 Jahre. Wer länger als 0 Uhr bleiben will\, benötigt zwingend einen gültigen Elternzettel und eine Begleitperson. Hier gehts zum Elternzettel-Download. \n 
URL:https://diehalle.de/event/2016-party/
LOCATION:Kulturinitiative die Halle Reichenbach e.V.\, Kanalstraße 10\, Reichenbach a. d. Fils\, Baden_Württemberg\, 73262\, Germany
CATEGORIES:Partys
ATTACH;FMTTYPE=image/png:https://diehalle.de/wp-content/uploads/2026/04/GymplTicket-Grafik.png
ORGANIZER;CN="die Halle":MAILTO:info@diehalle.de
END:VEVENT
BEGIN:VEVENT
DTSTART;TZID=UTC:20260522T200000
DTEND;TZID=UTC:20260522T200000
DTSTAMP:20260423T174817
CREATED:20251124T130711Z
LAST-MODIFIED:20251126T123225Z
UID:6534-1779480000-1779480000@diehalle.de
SUMMARY:Wildflower
DESCRIPTION:Der Soundgarten von Wildflower ist die Spielwiese fünf internationaler Musiker\, die mit viel Seele und Energie ihren ganz eigenen Musikstil pflegen\, der tief in der Tradition des Blues\, Rock und Soul verwurzelt ist. Mitreißende Spielfreude\, pulsierende Grooves und eine facettenreiche Stimme sind die Komponenten der Wildflower-Power. \nSängerin Biggi Binder\, Bassist Rolf Kersting\, Pianist\, Keyboarder und Produzent Jean-Pierre Barraqué aus Frankreich\, Schlagzeuger Thomas Keltsch sowie der in USA geborene und in Kanada aufgewachsene Gitarrist Steve Mushrush gehören seit langem\, nicht nur im Stuttgarter Raum\, zu den gefragtesten Live- und Studio-Musikern. \nMit ihrem Debütalbum The Cure trägt die künstlerische Allianz der fünf Musiker erste Früchte und mit ihrer dynamischen Bühnenausstrahlung verspricht die sympathische Band auch live ein eindrucksvolles Musikerlebnis! \nWildflower – Rhythm\, Blues and Soulfood.
URL:https://diehalle.de/event/wildflowers/
LOCATION:Kulturinitiative die Halle Reichenbach e.V.\, Kanalstraße 10\, Reichenbach a. d. Fils\, Baden_Württemberg\, 73262\, Germany
CATEGORIES:halle
ATTACH;FMTTYPE=image/jpeg:https://diehalle.de/wp-content/uploads/2025/11/2024_Wildflower_01_044F-scaled-e1763989578169.jpg
ORGANIZER;CN="die Halle":MAILTO:info@diehalle.de
END:VEVENT
END:VCALENDAR