BEGIN:VCALENDAR
VERSION:2.0
PRODID:-//Kulturinitiative die Halle e.V. - ECPv6.15.15//NONSGML v1.0//EN
CALSCALE:GREGORIAN
METHOD:PUBLISH
X-ORIGINAL-URL:https://diehalle.de
X-WR-CALDESC:Veranstaltungen für Kulturinitiative die Halle e.V.
REFRESH-INTERVAL;VALUE=DURATION:PT1H
X-Robots-Tag:noindex
X-PUBLISHED-TTL:PT1H
BEGIN:VTIMEZONE
TZID:UTC
BEGIN:STANDARD
TZOFFSETFROM:+0000
TZOFFSETTO:+0000
TZNAME:UTC
DTSTART:20250101T000000
END:STANDARD
END:VTIMEZONE
BEGIN:VEVENT
DTSTART;TZID=UTC:20260918T200000
DTEND;TZID=UTC:20260918T200000
DTSTAMP:20260423T205516
CREATED:20240924T114827Z
LAST-MODIFIED:20260402T065251Z
UID:4834-1789761600-1789761600@diehalle.de
SUMMARY:A Passage To Rush
DESCRIPTION:Die kanadische Progressive-Rock Kultband RUSH steht für virtuose Rockmusik der Extraklasse. Das Trio beeinflusste unzählige Musiker\, die teilweise selbst zu Legenden geworden sind.\nGeddy Lee\, Alex Lifeson und Neil Peart von RUSH werden dabei oft als Vorbilder oder gar absolute Heroes verehrt. \n„A passage to RUSH“ brennen für RUSH und bringen deren energiegeladene Musik detailgetreu live auf die Bühne\, und das voller Spielfreude und Leidenschaft! Dabei ist ihnen kein Aufwand zu groß\, um der unfassbaren Musikalität und dem Spirit der Originale gerecht zu werden.
URL:https://diehalle.de/event/a-passage-to-rush/
LOCATION:Kulturinitiative die Halle Reichenbach e.V.\, Kanalstraße 10\, Reichenbach a. d. Fils\, Baden_Württemberg\, 73262\, Germany
CATEGORIES:halle
ATTACH;FMTTYPE=image/jpeg:https://diehalle.de/wp-content/uploads/2024/09/A_Passage_To_Rush-c-Werner_Otten.jpg
ORGANIZER;CN="die Halle":MAILTO:info@diehalle.de
END:VEVENT
BEGIN:VEVENT
DTSTART;TZID=UTC:20260919T180000
DTEND;TZID=UTC:20260919T180000
DTSTAMP:20260423T205516
CREATED:20260330T132703Z
LAST-MODIFIED:20260402T065209Z
UID:7046-1789840800-1789840800@diehalle.de
SUMMARY:New World Destopia Festival
DESCRIPTION:Das Gipfeltreffen der Finsternis! Vier Bands – ein Live-Erlebnis \nDie Halle wird zum Schauplatz für eines der intensivsten Genre-Events des Jahres. Das „New World Destopia Festival“ vereint nationale Größen aus Horror-Punk\, Metal und Rock zu einem düsteren PS-Monster von einem Line-up. \nAngeführt wird das Spektakel von den deutschen Horror-Punk-Legenden „The Other“. Mit ihrem aktuellen Chart-Album im Gepäck verwandeln sie die Bühne in ein atmosphärisches Kabinett des Schreckens. Direkt gefolgt von den Co-Headlinern und Lokalmatadoren „Lords of Salem“. Die Lords vereinen Glamour und Dunkelheit auf ihrem Hit-Album Supersonic Vampire Pussy. Außerdem am Start sind „Projekt Ju“ aus dem Raum Saarbrücken\, mit ihrem erfolgreichen aktuellen Longplayer und ihrer kompromisslosen Live-Energie. Sowie die Stuttgarter Band „Parhelyon“. Auch sie haben ein erfolgreiches Album im Rücken\, und werden mit ihrem druckvollen Sound für ein Beben in der Halle sorgen.
URL:https://diehalle.de/event/new-world-destopia-festival/
LOCATION:Kulturinitiative die Halle Reichenbach e.V.\, Kanalstraße 10\, Reichenbach a. d. Fils\, Baden_Württemberg\, 73262\, Germany
CATEGORIES:halle
ATTACH;FMTTYPE=image/png:https://diehalle.de/wp-content/uploads/2026/03/NWD-10801080-Webseite-e1774877155924.png
ORGANIZER;CN="die Halle":MAILTO:info@diehalle.de
END:VEVENT
END:VCALENDAR