BEGIN:VCALENDAR
VERSION:2.0
PRODID:-//Kulturinitiative die Halle e.V. - ECPv6.15.15//NONSGML v1.0//EN
CALSCALE:GREGORIAN
METHOD:PUBLISH
X-WR-CALNAME:Kulturinitiative die Halle e.V.
X-ORIGINAL-URL:https://diehalle.de
X-WR-CALDESC:Veranstaltungen für Kulturinitiative die Halle e.V.
REFRESH-INTERVAL;VALUE=DURATION:PT1H
X-Robots-Tag:noindex
X-PUBLISHED-TTL:PT1H
BEGIN:VTIMEZONE
TZID:UTC
BEGIN:STANDARD
TZOFFSETFROM:+0000
TZOFFSETTO:+0000
TZNAME:UTC
DTSTART:20250101T000000
END:STANDARD
END:VTIMEZONE
BEGIN:VEVENT
DTSTART;TZID=UTC:20261106T200000
DTEND;TZID=UTC:20261106T200000
DTSTAMP:20260425T103316
CREATED:20230522T134323Z
LAST-MODIFIED:20260417T123144Z
UID:3706-1793995200-1793995200@diehalle.de
SUMMARY:Alex im Westerland
DESCRIPTION:Oh\, ich hab solche Sehnsucht … \nDas Bühnenprogramm von “Alex im Westerland” besteht zu 100 Prozent aus den größten Hits der beiden Punkrock-Urgesteine aus Deutschland. \nDie Frankfurter Band versteht es spielend\, die Stimmung zum Kochen zu bringen und legt nebenbei großen Wert darauf\, die Zuschauer mit einzubeziehen: Das Publikum wird so zum festen Bestandteil der Show gemacht. „Unrockbar“ bleibt garantiert niemand! \nBei aller Partytauglichkeit liegt ein weiterer Schwerpunkt der vier erfahrenen Musiker aber auch auf einer musikalisch anspruchsvollen und klanglich authentischen Performance. Dabei kommen Ärzte-typische mehrstimmige Gesänge\, Hosen-typische Gitarrensoli oder auch mal eine Soloakustikgitarre zum Einsatz. \nEgal ob im Club\, auf Open-Air-Festivals\, auf Stadtfest oder Privatparty: Die Band schafft es jedesmal auf´s Neue\, dass sowohl Musikliebhaber als auch Feierwütige von jung bis nicht mehr ganz so jung voll auf ihre Kosten kommen. So lange\, bis „Alles unter Strom“ steht!
URL:https://diehalle.de/event/alex-im-westerland/
LOCATION:Kulturinitiative die Halle Reichenbach e.V.\, Kanalstraße 10\, Reichenbach a. d. Fils\, Baden_Württemberg\, 73262\, Germany
CATEGORIES:halle
ATTACH;FMTTYPE=image/jpeg:https://diehalle.de/wp-content/uploads/2023/05/DSC_7427-scaled-e1716535677861.jpg
ORGANIZER;CN="die Halle":MAILTO:info@diehalle.de
END:VEVENT
BEGIN:VEVENT
DTSTART;TZID=UTC:20261107T190000
DTEND;TZID=UTC:20261107T190000
DTSTAMP:20260425T103316
CREATED:20231113T115756Z
LAST-MODIFIED:20260402T064947Z
UID:3941-1794078000-1794078000@diehalle.de
SUMMARY:Bounce
DESCRIPTION:Seit dem Jahr 2001 – und damit bereits seit 25 Jahren – ist BOUNCE erfolgreich auf unzähligen Bühnen in Deutschland und dem angrenzenden Ausland unterwegs. BOUNCE ist mit rund 80 Konzerten pro Jahr die meistgebuchte Bon Jovi Tributeband Europas und gilt\, nicht nur unterInsidern\, seit vielen Jahren auch als die Authentischste. \nSänger Oliver Henrich überzeugt das Publikum\, neben seiner außergewöhnlichen Stimme\, vor allem durch seine energiegeladene Bühnenperformance. Im Jahr 2020 nahm der sympathische Frontmann an der Casting Show „The Voice of Germany“ teil und erreichte im Finale den                herausragenden 2. Platz. \nDen größten Erfolg der Bandgeschichte erreichte BOUNCE im Jahr 2024 durch die Teilnahme an derSAT.1 TV Show „THE TRIBUTE“. Die Band trat hier im musikalischen Wettstreit um den Titel „Beste Tributeband Deutschlands“ gegen 11 qualitativ sehr starke Konkurrenten an und belegte auch hier den 2. Platz. \nDie aktuelle „XXV – 25th ANNIVERSARY TOUR 2026“\, führt BOUNCE einmal mehr quer durch dieRepublik und darüber hinaus. \nBOUNCE ist ein Garant für ein Konzerterlebnis auf höchstem Niveau. Während der rund 2\,5 stündigen Show werden sowohl die größten Bon Jovi Hits\, als auch einige musikalische Perlen auf die Bühne gebracht. Etliche Originalinstrumente unterstreichen dabei den professionellen Anspruch der fünf Musiker.
URL:https://diehalle.de/event/bounce/
LOCATION:Kulturinitiative die Halle Reichenbach e.V.\, Kanalstraße 10\, Reichenbach a. d. Fils\, Baden_Württemberg\, 73262\, Germany
CATEGORIES:halle
ATTACH;FMTTYPE=image/jpeg:https://diehalle.de/wp-content/uploads/2023/11/BOUNCE-presse2026-scaled-e1774881952573.jpg
ORGANIZER;CN="die Halle":MAILTO:info@diehalle.de
END:VEVENT
BEGIN:VEVENT
DTSTART;TZID=UTC:20261120T200000
DTEND;TZID=UTC:20261120T200000
DTSTAMP:20260425T103316
CREATED:20260330T151652Z
LAST-MODIFIED:20260402T065037Z
UID:7055-1795204800-1795204800@diehalle.de
SUMMARY:No Sports
DESCRIPTION:Die Ska Legenden sind wieder da! \n„Nomen non omen est“ müsste die Lateiner*in sagen\, denn wenn „No Sports“ zum Ska-ngriff blasen\, führt das zum sofortigen Tanz-Workout mit Heidenspaß-Garantie! \nDaher aufgepasst! Macht euch bereit für einen Abend voller Energie und grooviger Beats\, wenn No Sports\, die legendäre SKA-Band aus Stuttgart\, die Bühne betritt!\nNatürlich spielen sie ihre größten Hits und Fan-Lieblinge wie „Stay Rude Stay Rebel“\, „King Kong“\, „4 on the Floor“ und viele mehr\, und sorgen für eine Nacht voller Tanz und guter Laune sorgen. \nDer einzigartige Sound und die charismatische Bühnenpräsenz von No Sports sind legendär. Die Energie ist ansteckend\, und die Live-Auftritte sind ein Erlebnis.\nDie Band ist seit über 35 Jahren aktiv und hat sich einen Namen als eine der besten SKA-Bands in Europa gemacht. Sie sind auf einigen der größten Festivals der Welt aufgetreten\, und endlich sind sie mal wieder zu Gast in der Halle Reichenbach! \nVerpass nicht Deine Chance\, No Sports live zu erleben. \nD-Mark Dollar: Gesang\, Gitarre\nMoni: Akkordeon\, Keyboard\, Gesang\nPaddi: Trompete\, Vibe Controller\nNico Nico: Saxofon\nElmar Dunkel: Saxofon\nGernot Schad: Bass\nBoonkid Jackson: Drums
URL:https://diehalle.de/event/no-sports/
LOCATION:Kulturinitiative die Halle Reichenbach e.V.\, Kanalstraße 10\, Reichenbach a. d. Fils\, Baden_Württemberg\, 73262\, Germany
CATEGORIES:halle
ATTACH;FMTTYPE=image/jpeg:https://diehalle.de/wp-content/uploads/2026/03/NoSports_Presse-Picture-e1774883763871.jpg
ORGANIZER;CN="die Halle":MAILTO:info@diehalle.de
END:VEVENT
END:VCALENDAR