BEGIN:VCALENDAR
VERSION:2.0
PRODID:-//Kulturinitiative die Halle e.V. - ECPv6.15.15//NONSGML v1.0//EN
CALSCALE:GREGORIAN
METHOD:PUBLISH
X-ORIGINAL-URL:https://diehalle.de
X-WR-CALDESC:Veranstaltungen für Kulturinitiative die Halle e.V.
REFRESH-INTERVAL;VALUE=DURATION:PT1H
X-Robots-Tag:noindex
X-PUBLISHED-TTL:PT1H
BEGIN:VTIMEZONE
TZID:UTC
BEGIN:STANDARD
TZOFFSETFROM:+0000
TZOFFSETTO:+0000
TZNAME:UTC
DTSTART:20250101T000000
END:STANDARD
END:VTIMEZONE
BEGIN:VEVENT
DTSTART;TZID=UTC:20260424T210000
DTEND;TZID=UTC:20260425T030000
DTSTAMP:20260423T162448
CREATED:20250908T071804Z
LAST-MODIFIED:20260113T080911Z
UID:6105-1777064400-1777086000@diehalle.de
SUMMARY:Rebel Songs - die Nacht für alle\, die Gitarren lieben!
DESCRIPTION:🎸 Rebel Songs! Lasst die Saiten sprechen! \nAm 24. April 2026 verwandeln wir die Halle in Reichenbach in ein Mekka für alle Rock- und Gitarrenfans. An den Turntables für Euch: Dj-McLoud. Freu dich auf eine Nacht voller Power\, Emotionen und unvergesslicher Momente: Von den legendären Gitarren-Hits der 90er bis zu modernen und frischen Sounds\, die das Genre heute prägen – wir bringen alles für Euch auf die Tanzfläche! Den ganzen Abend Gitarrenmusik und Alternative Sounds von den 90´s bis heute und wieder zurück. Featuring Linkin Park\, LØLØ\, The Offspring\, Nirvana\, Faith No More\, Volbeat\, Billy Talent\, Green Day\, Bush\, Pearl Jam\, Soundgarden\, Red Hot Chili Peppers\, Nickelback\, Feine Sahne Fischfilet\, HIM\, Placebo\, Franz Ferdinand\, Kings Of Leon\, The Killers\, Oasis\, Blur\, Weezer\, H-Blockx\, Guano Apes\, The Bloodhound Gang\,  Dog Eat Dog\, Bad Religion\, The Ataris\, The Ramones\, The Prodigy\, Chemical Brothers\,  Fatboy Slim\, Wheatus\, Avril Lavigne\, Sportfreunde Stiller\, MIA\, Juli\, Die Fantastischen Vier\, Jan Delay\, Seeed\, Deichkind\, Die Ärzte\, Die Toten Hosen\, Beatsteaks\, Donots\, Crazy Town\, Eminem\, House Of Pain\, Everlast\, Rage Against the Machine\, Body Count\,  Papa Roach\, Clawfinger\, KoRn\, S.O.A.D und viele mehr! \n💥 Und das Beste: Von 21:00 bis 23:00 Uhr gibt’s die Double-Time. Hol dir zwei Drinks zum Preis von einem und stoß mit Deinen Freunden auf einen unvergesslichen Abend an. \nMach dich bereit für eine Nacht voller Energie\, Nostalgie und purem Rock’n’Roll-Gefühl. Rebel Songs wird Dein Herz schneller schlagen lassen. \n  \n 
URL:https://diehalle.de/event/rebel-songs-die-nacht-fuer-alle-die-gitarren-lieben/
LOCATION:Kulturinitiative die Halle Reichenbach e.V.\, Kanalstraße 10\, Reichenbach a. d. Fils\, Baden_Württemberg\, 73262\, Germany
CATEGORIES:Partys
ATTACH;FMTTYPE=image/jpeg:https://diehalle.de/wp-content/uploads/2025/09/REBEL-SONGS_FlyerA6_105x148mm_WEB-002.jpg
ORGANIZER;CN="die Halle":MAILTO:info@diehalle.de
END:VEVENT
BEGIN:VEVENT
DTSTART;TZID=UTC:20260425T200000
DTEND;TZID=UTC:20260425T200000
DTSTAMP:20260423T162448
CREATED:20251124T090123Z
LAST-MODIFIED:20260213T140130Z
UID:6527-1777147200-1777147200@diehalle.de
SUMMARY:Franz Mayer Experience
DESCRIPTION:Welthits wieder im schwäbischen Original \nAlex Köberlein is back! Und er hat was Neues im Gepäck\, und zwar die Franz Mayer Experience. Das Quintett hat nicht weniger vor\, als die schwäbische Musikwelt vor dem Vergessen zu retten. Und wer den Alex Köberlein kennt\, weiß\, dass das nicht ohne Augenzwinkern und Humor passiert. \nMan hat es immer geahnt\, immer schon gewusst. Die meisten großen Hits der Popgeschichte sind geklaut. Schnöde abgekupfert von ursprünglich schwäbischen Songs aus dem letzten Jahrhundert. Vor allem amerikanische und englische Besatzungssoldaten nahmen mit was sie konnten. So entstanden Welthits wie „Rebel yell“\, „Locomotive Breath“ oder „Baker Street“\, während die Originalmusik aus dem schwäbischen Untergrund fast in Vergessenheit geriet. \nWas aber dann als coole\, fast surrealistisch anmutende englischsprachige Poplyrik gerühmt wurde\, ist in Wahrheit nur schlechte Übersetzung des schwäbischen Originals. So wurde aus der klaren Aussage „Mein Vaddr war n harda Hond“ das eher betuliche „Papa was a Rolling Stone“ (Papi war ein rollender Stein). \nDas soll nun geradegerückt werden. \nAlex Köberlein (voc\,fl\,sax)\, bekannt von Schwoißfuaß und Grachmusikoff begibt sich mit Ralf Trouillet (bs\, voc)\, Joo Aiple (dr)\, Matze Reimann(git)\, Steff Hengstler (Keyb) auf die wohl größte kulturelle Rettungs-Mission der schwäbischen Popgeschichte
URL:https://diehalle.de/event/franz-mayer-experience/
LOCATION:Kulturinitiative die Halle Reichenbach e.V.\, Kanalstraße 10\, Reichenbach a. d. Fils\, Baden_Württemberg\, 73262\, Germany
CATEGORIES:halle
ATTACH;FMTTYPE=image/jpeg:https://diehalle.de/wp-content/uploads/2025/11/Franz-Mayer-Experience-Pressefoto-2024-QF-scaled-e1763974821636.jpg
ORGANIZER;CN="die Halle":MAILTO:info@diehalle.de
END:VEVENT
END:VCALENDAR